Package: arrays Version: 1.37.0 Command: /home/biocbuild/bbs-3.23-bioc/R/bin/R CMD build --keep-empty-dirs --no-resave-data arrays StartedAt: 2025-11-07 13:04:17 -0500 (Fri, 07 Nov 2025) EndedAt: 2025-11-07 13:04:41 -0500 (Fri, 07 Nov 2025) EllapsedTime: 24.0 seconds RetCode: 0 Status: OK PackageFile: arrays_1.37.0.tar.gz PackageFileSize: 9.64 MiB