Package: spatialLIBD Version: 1.23.0 Maintainer: Leonardo Collado-Torres MaintainerEmail: lcolladotor at gmail.com git_url: https://git.bioconductor.org/packages/spatialLIBD git_branch: devel git_last_commit: 20d2ef8 git_last_commit_date: 2025-10-29 10:02:34 -0500 (Wed, 29 Oct 2025)