Package: spatialDmelxsim Version: 1.17.0 Command: /home/biocbuild/bbs-3.23-bioc/R/bin/R CMD INSTALL spatialDmelxsim StartedAt: 2025-11-06 11:01:17 -0500 (Thu, 06 Nov 2025) EndedAt: 2025-11-06 11:01:42 -0500 (Thu, 06 Nov 2025) EllapsedTime: 25.4 seconds RetCode: 0 Status: OK