Package: spatialDmelxsim Version: 1.17.0 Maintainer: Michael Love MaintainerEmail: michaelisaiahlove at gmail.com git_url: https://git.bioconductor.org/packages/spatialDmelxsim git_branch: devel git_last_commit: dcbc1d5 git_last_commit_date: 2025-10-29 10:04:09 -0500 (Wed, 29 Oct 2025)