Package: simpIntLists Version: 1.47.0 Command: /home/biocbuild/bbs-3.23-bioc/R/bin/R CMD INSTALL simpIntLists StartedAt: 2025-11-11 10:55:29 -0500 (Tue, 11 Nov 2025) EndedAt: 2025-11-11 10:55:32 -0500 (Tue, 11 Nov 2025) EllapsedTime: 2.9 seconds RetCode: 0 Status: OK