Package: signatureSearchData Version: 1.25.0 Maintainer: Brendan Gongol MaintainerEmail: bgong001 at ucr.edu git_url: https://git.bioconductor.org/packages/signatureSearchData git_branch: devel git_last_commit: ee7e356 git_last_commit_date: 2025-10-29 10:02:09 -0500 (Wed, 29 Oct 2025)