Package: seqc Version: 1.45.0 Command: /home/biocbuild/bbs-3.23-bioc/R/bin/R CMD INSTALL seqc StartedAt: 2025-11-20 10:56:09 -0500 (Thu, 20 Nov 2025) EndedAt: 2025-11-20 10:58:00 -0500 (Thu, 20 Nov 2025) EllapsedTime: 111.6 seconds RetCode: 0 Status: OK