Package: seqc Version: 1.45.0 Command: /home/biocbuild/bbs-3.23-bioc/R/bin/R CMD build --keep-empty-dirs --no-resave-data seqc StartedAt: 2025-11-20 11:43:08 -0500 (Thu, 20 Nov 2025) EndedAt: 2025-11-20 11:45:16 -0500 (Thu, 20 Nov 2025) EllapsedTime: 127.4 seconds RetCode: 0 Status: OK PackageFile: seqc_1.45.0.tar.gz PackageFileSize: 179.1 MiB