Package: scpdata Version: 1.19.0 Command: /home/biocbuild/bbs-3.23-bioc/R/bin/R CMD INSTALL scpdata StartedAt: 2025-11-27 10:59:32 -0500 (Thu, 27 Nov 2025) EndedAt: 2025-11-27 11:00:04 -0500 (Thu, 27 Nov 2025) EllapsedTime: 31.5 seconds RetCode: 0 Status: OK