Package: scanMiRData Version: 1.17.0 Command: /home/biocbuild/bbs-3.23-bioc/R/bin/R CMD INSTALL scanMiRData StartedAt: 2025-11-06 10:58:05 -0500 (Thu, 06 Nov 2025) EndedAt: 2025-11-06 10:58:21 -0500 (Thu, 06 Nov 2025) EllapsedTime: 15.0 seconds RetCode: 0 Status: OK