Package: scanMiRData Version: 1.17.0 Command: /home/biocbuild/bbs-3.23-bioc/R/bin/R CMD build --keep-empty-dirs --no-resave-data scanMiRData StartedAt: 2025-11-06 11:40:21 -0500 (Thu, 06 Nov 2025) EndedAt: 2025-11-06 11:40:49 -0500 (Thu, 06 Nov 2025) EllapsedTime: 28.7 seconds RetCode: 0 Status: OK PackageFile: scanMiRData_1.17.0.tar.gz PackageFileSize: 16.14 MiB