Package: scaeData Version: 1.7.0 Command: /home/biocbuild/bbs-3.23-bioc/R/bin/R CMD build --keep-empty-dirs --no-resave-data scaeData StartedAt: 2025-11-06 11:39:59 -0500 (Thu, 06 Nov 2025) EndedAt: 2025-11-06 11:42:57 -0500 (Thu, 06 Nov 2025) EllapsedTime: 178.3 seconds RetCode: 0 Status: OK PackageFile: scaeData_1.7.0.tar.gz PackageFileSize: 300.9 KiB