Package: scaeData Version: 1.7.0 Maintainer: Ahmad Al Ajami MaintainerEmail: alajami at med.uni-frankfurt.de git_url: https://git.bioconductor.org/packages/scaeData git_branch: devel git_last_commit: 4c50bf7 git_last_commit_date: 2025-10-29 10:06:21 -0500 (Wed, 29 Oct 2025)