Package: scRNAseq Version: 2.25.0 Command: /home/biocbuild/bbs-3.23-bioc/R/bin/R CMD INSTALL scRNAseq StartedAt: 2025-11-06 11:00:56 -0500 (Thu, 06 Nov 2025) EndedAt: 2025-11-06 11:01:38 -0500 (Thu, 06 Nov 2025) EllapsedTime: 41.9 seconds RetCode: 0 Status: OK