Package: scRNAseq Version: 2.25.0 Command: /home/biocbuild/bbs-3.23-bioc/R/bin/R CMD build --keep-empty-dirs --no-resave-data scRNAseq StartedAt: 2025-11-06 11:40:54 -0500 (Thu, 06 Nov 2025) EndedAt: 2025-11-06 11:42:04 -0500 (Thu, 06 Nov 2025) EllapsedTime: 70.3 seconds RetCode: 0 Status: OK PackageFile: scRNAseq_2.25.0.tar.gz PackageFileSize: 304.5 KiB