Package: scRNAseq Version: 2.25.0 Maintainer: Aaron Lun MaintainerEmail: infinite.monkeys.with.keyboards at gmail.com git_url: https://git.bioconductor.org/packages/scRNAseq git_branch: devel git_last_commit: 2fad4dd git_last_commit_date: 2025-10-29 09:58:50 -0500 (Wed, 29 Oct 2025)