Package: preciseTADhub Version: 1.19.0 Command: /home/biocbuild/bbs-3.23-bioc/R/bin/R CMD INSTALL preciseTADhub StartedAt: 2025-11-06 10:57:07 -0500 (Thu, 06 Nov 2025) EndedAt: 2025-11-06 10:57:20 -0500 (Thu, 06 Nov 2025) EllapsedTime: 12.8 seconds RetCode: 0 Status: OK