Package: preciseTADhub Version: 1.19.0 Maintainer: Mikhail Dozmorov MaintainerEmail: mikhail.dozmorov at gmail.com git_url: https://git.bioconductor.org/packages/preciseTADhub git_branch: devel git_last_commit: 8f46731 git_last_commit_date: 2025-10-29 10:03:00 -0500 (Wed, 29 Oct 2025)