Package: plotgardenerData Version: 1.17.0 Maintainer: Nicole Kramer MaintainerEmail: nekramer at live.unc.edu git_url: https://git.bioconductor.org/packages/plotgardenerData git_branch: devel git_last_commit: e34744d git_last_commit_date: 2025-10-29 10:04:17 -0500 (Wed, 29 Oct 2025)