Package: pepDat Version: 1.31.0 Maintainer: Renan Sauteraud MaintainerEmail: rsautera at fhcrc.org git_url: https://git.bioconductor.org/packages/pepDat git_branch: devel git_last_commit: 73e9ec1 git_last_commit_date: 2025-10-29 09:55:17 -0500 (Wed, 29 Oct 2025)