Package: pasilla Version: 1.39.0 Command: /home/biocbuild/bbs-3.23-bioc/R/bin/R CMD build --keep-empty-dirs --no-resave-data pasilla StartedAt: 2025-11-18 11:35:41 -0500 (Tue, 18 Nov 2025) EndedAt: 2025-11-18 11:36:38 -0500 (Tue, 18 Nov 2025) EllapsedTime: 56.5 seconds RetCode: 0 Status: OK PackageFile: pasilla_1.39.0.tar.gz PackageFileSize: 3.151 MiB