Package: octad.db Version: 1.13.0 Maintainer: E. Chekalin MaintainerEmail: eygen.chekalin at gmail.com git_url: https://git.bioconductor.org/packages/octad.db git_branch: devel git_last_commit: 55a36e8 git_last_commit_date: 2025-10-29 10:05:17 -0500 (Wed, 29 Oct 2025)