Package: oct4 Version: 1.27.0 Maintainer: Michael Love MaintainerEmail: michaelisaiahlove at gmail.com git_url: https://git.bioconductor.org/packages/oct4 git_branch: devel git_last_commit: c904f57 git_last_commit_date: 2025-10-29 10:01:21 -0500 (Wed, 29 Oct 2025)