Package: nullrangesData Version: 1.17.0 Command: /home/biocbuild/bbs-3.23-bioc/R/bin/R CMD INSTALL nullrangesData StartedAt: 2025-11-06 10:58:17 -0500 (Thu, 06 Nov 2025) EndedAt: 2025-11-06 10:58:47 -0500 (Thu, 06 Nov 2025) EllapsedTime: 29.3 seconds RetCode: 0 Status: OK