Package: nullrangesData Version: 1.17.0 Command: /home/biocbuild/bbs-3.23-bioc/R/bin/R CMD build --keep-empty-dirs --no-resave-data nullrangesData StartedAt: 2025-11-06 11:33:43 -0500 (Thu, 06 Nov 2025) EndedAt: 2025-11-06 11:34:29 -0500 (Thu, 06 Nov 2025) EllapsedTime: 46.5 seconds RetCode: 0 Status: OK PackageFile: nullrangesData_1.17.0.tar.gz PackageFileSize: 4.148 MiB