Package: nullrangesData Version: 1.17.0 Maintainer: Michael Love MaintainerEmail: michaelisaiahlove at gmail.com git_url: https://git.bioconductor.org/packages/nullrangesData git_branch: devel git_last_commit: 00b15eb git_last_commit_date: 2025-10-29 10:04:29 -0500 (Wed, 29 Oct 2025)