Package: muleaData Version: 1.7.0 Command: /home/biocbuild/bbs-3.23-bioc/R/bin/R CMD INSTALL muleaData StartedAt: 2025-11-11 10:55:28 -0500 (Tue, 11 Nov 2025) EndedAt: 2025-11-11 10:55:29 -0500 (Tue, 11 Nov 2025) EllapsedTime: 1.3 seconds RetCode: 0 Status: OK