Package: muleaData Version: 1.7.0 Maintainer: Eszter Ari MaintainerEmail: arieszter at gmail.com git_url: https://git.bioconductor.org/packages/muleaData git_branch: devel git_last_commit: 6aa879e git_last_commit_date: 2025-10-29 10:06:16 -0500 (Wed, 29 Oct 2025)