Package: mosaicsExample Version: 1.49.0 Command: /home/biocbuild/bbs-3.23-bioc/R/bin/R CMD build --keep-empty-dirs --no-resave-data mosaicsExample StartedAt: 2025-11-06 11:31:02 -0500 (Thu, 06 Nov 2025) EndedAt: 2025-11-06 11:31:21 -0500 (Thu, 06 Nov 2025) EllapsedTime: 18.5 seconds RetCode: 0 Status: OK PackageFile: mosaicsExample_1.49.0.tar.gz PackageFileSize: 48.06 MiB