Package: mosaicsExample Version: 1.49.0 Maintainer: Dongjun Chung MaintainerEmail: dongjun.chung at gmail.com git_url: https://git.bioconductor.org/packages/mosaicsExample git_branch: devel git_last_commit: 1f3e0a1 git_last_commit_date: 2025-10-29 09:32:03 -0500 (Wed, 29 Oct 2025)