Package: minfiDataEPIC Version: 1.37.0 Command: /home/biocbuild/bbs-3.23-bioc/R/bin/R CMD build --keep-empty-dirs --no-resave-data minfiDataEPIC StartedAt: 2025-11-06 11:30:39 -0500 (Thu, 06 Nov 2025) EndedAt: 2025-11-06 11:30:50 -0500 (Thu, 06 Nov 2025) EllapsedTime: 11.4 seconds RetCode: 0 Status: OK PackageFile: minfiDataEPIC_1.37.0.tar.gz PackageFileSize: 69.26 MiB