Package: minfiDataEPIC Version: 1.37.0 Maintainer: Kasper Daniel Hansen MaintainerEmail: kasperdanielhansen at gmail.com git_url: https://git.bioconductor.org/packages/minfiDataEPIC git_branch: devel git_last_commit: b3b48f5 git_last_commit_date: 2025-10-29 09:58:37 -0500 (Wed, 29 Oct 2025)