Package: lungExpression Version: 0.49.0 Maintainer: Robert Scharpf MaintainerEmail: rscharpf at jhu.edu git_url: https://git.bioconductor.org/packages/lungExpression git_branch: devel git_last_commit: a782b57 git_last_commit_date: 2025-10-29 09:30:45 -0500 (Wed, 29 Oct 2025)