Package: imcdatasets Version: 1.19.0 Command: /home/biocbuild/bbs-3.23-bioc/R/bin/R CMD INSTALL imcdatasets StartedAt: 2025-11-04 10:59:48 -0500 (Tue, 04 Nov 2025) EndedAt: 2025-11-04 11:00:40 -0500 (Tue, 04 Nov 2025) EllapsedTime: 51.8 seconds RetCode: 0 Status: OK