Package: imcdatasets Version: 1.19.0 Command: /home/biocbuild/bbs-3.23-bioc/R/bin/R CMD build --keep-empty-dirs --no-resave-data imcdatasets StartedAt: 2025-11-04 11:26:20 -0500 (Tue, 04 Nov 2025) EndedAt: 2025-11-04 11:28:49 -0500 (Tue, 04 Nov 2025) EllapsedTime: 149.1 seconds RetCode: 0 Status: OK PackageFile: imcdatasets_1.19.0.tar.gz PackageFileSize: 1.629 MiB