Package: imcdatasets Version: 1.19.0 Maintainer: Nicolas Damond MaintainerEmail: nicolas.damond at dqbm.uzh.ch git_url: https://git.bioconductor.org/packages/imcdatasets git_branch: devel git_last_commit: 67f1ac9 git_last_commit_date: 2025-10-29 10:03:12 -0500 (Wed, 29 Oct 2025)