Package: iModMixData Version: 1.1.0 Command: /home/biocbuild/bbs-3.23-bioc/R/bin/R CMD INSTALL iModMixData StartedAt: 2025-11-06 10:57:32 -0500 (Thu, 06 Nov 2025) EndedAt: 2025-11-06 10:57:33 -0500 (Thu, 06 Nov 2025) EllapsedTime: 1.2 seconds RetCode: 0 Status: OK