Package: hgu133plus2CellScore Version: 1.31.0 Maintainer: Nancy Mah MaintainerEmail: nancy.l.mah at googlemail.com git_url: https://git.bioconductor.org/packages/hgu133plus2CellScore git_branch: devel git_last_commit: dc96491 git_last_commit_date: 2025-10-29 09:59:53 -0500 (Wed, 29 Oct 2025)