Package: hapmapsnp6 Version: 1.53.0 Command: /home/biocbuild/bbs-3.23-bioc/R/bin/R CMD build --keep-empty-dirs --no-resave-data hapmapsnp6 StartedAt: 2025-11-06 11:21:16 -0500 (Thu, 06 Nov 2025) EndedAt: 2025-11-06 11:25:23 -0500 (Thu, 06 Nov 2025) EllapsedTime: 247.3 seconds RetCode: 0 Status: OK PackageFile: hapmapsnp6_1.53.0.tar.gz PackageFileSize: 263.2 MiB