Package: hapmap500ksty Version: 1.53.0 Command: /home/biocbuild/bbs-3.23-bioc/R/bin/R CMD build --keep-empty-dirs --no-resave-data hapmap500ksty StartedAt: 2025-11-11 11:20:51 -0500 (Tue, 11 Nov 2025) EndedAt: 2025-11-11 11:23:25 -0500 (Tue, 11 Nov 2025) EllapsedTime: 154.8 seconds RetCode: 0 Status: OK PackageFile: hapmap500ksty_1.53.0.tar.gz PackageFileSize: 77.63 MiB