Package: hapmap100khind Version: 1.53.0 Command: /home/biocbuild/bbs-3.23-bioc/R/bin/R CMD INSTALL hapmap100khind StartedAt: 2025-11-06 10:55:38 -0500 (Thu, 06 Nov 2025) EndedAt: 2025-11-06 10:55:41 -0500 (Thu, 06 Nov 2025) EllapsedTime: 2.8 seconds RetCode: 0 Status: OK