Package: hapmap100khind Version: 1.53.0 Command: /home/biocbuild/bbs-3.23-bioc/R/bin/R CMD build --keep-empty-dirs --no-resave-data hapmap100khind StartedAt: 2025-11-06 11:20:47 -0500 (Thu, 06 Nov 2025) EndedAt: 2025-11-06 11:21:45 -0500 (Thu, 06 Nov 2025) EllapsedTime: 57.8 seconds RetCode: 0 Status: OK PackageFile: hapmap100khind_1.53.0.tar.gz PackageFileSize: 38.05 MiB