Package: hapmap100khind Version: 1.53.0 Maintainer: Benilton Carvalho MaintainerEmail: Benilton.Carvalho at cancer.org.uk git_url: https://git.bioconductor.org/packages/hapmap100khind git_branch: devel git_last_commit: 45e32ee git_last_commit_date: 2025-10-29 09:31:02 -0500 (Wed, 29 Oct 2025)