Package: gpaExample Version: 1.23.0 Command: /home/biocbuild/bbs-3.23-bioc/R/bin/R CMD INSTALL gpaExample StartedAt: 2025-11-06 10:55:49 -0500 (Thu, 06 Nov 2025) EndedAt: 2025-11-06 10:55:51 -0500 (Thu, 06 Nov 2025) EllapsedTime: 2.2 seconds RetCode: 0 Status: OK