Package: gpaExample Version: 1.23.0 Command: /home/biocbuild/bbs-3.23-bioc/R/bin/R CMD build --keep-empty-dirs --no-resave-data gpaExample StartedAt: 2025-11-06 11:20:22 -0500 (Thu, 06 Nov 2025) EndedAt: 2025-11-06 11:20:24 -0500 (Thu, 06 Nov 2025) EllapsedTime: 1.6 seconds RetCode: 0 Status: OK PackageFile: gpaExample_1.23.0.tar.gz PackageFileSize: 11.52 MiB