Package: gpaExample Version: 1.23.0 Maintainer: Dongjun Chung MaintainerEmail: dongjun.chung at gmail.com git_url: https://git.bioconductor.org/packages/gpaExample git_branch: devel git_last_commit: a830843 git_last_commit_date: 2025-10-29 10:02:25 -0500 (Wed, 29 Oct 2025)