Package: geneLenDataBase Version: 1.47.0 Maintainer: Federico Marini MaintainerEmail: marinif at uni-mainz.de git_url: https://git.bioconductor.org/packages/geneLenDataBase git_branch: devel git_last_commit: 8b3da6c git_last_commit_date: 2025-10-29 09:31:54 -0500 (Wed, 29 Oct 2025)