Package: gcspikelite Version: 1.49.0 Maintainer: Mark Robinson MaintainerEmail: mrobinson at wehi.edu.au git_url: https://git.bioconductor.org/packages/gcspikelite git_branch: devel git_last_commit: 7f8bef9 git_last_commit_date: 2025-10-29 09:31:33 -0500 (Wed, 29 Oct 2025)