Package: gDNAinRNAseqData Version: 1.11.0 Command: /home/biocbuild/bbs-3.23-bioc/R/bin/R CMD INSTALL gDNAinRNAseqData StartedAt: 2025-11-20 11:03:19 -0500 (Thu, 20 Nov 2025) EndedAt: 2025-11-20 11:03:35 -0500 (Thu, 20 Nov 2025) EllapsedTime: 16.7 seconds RetCode: 0 Status: OK