Package: gDNAinRNAseqData Version: 1.11.0 Command: /home/biocbuild/bbs-3.23-bioc/R/bin/R CMD build --keep-empty-dirs --no-resave-data gDNAinRNAseqData StartedAt: 2025-11-20 11:20:25 -0500 (Thu, 20 Nov 2025) EndedAt: 2025-11-20 11:21:16 -0500 (Thu, 20 Nov 2025) EllapsedTime: 51.0 seconds RetCode: 0 Status: OK PackageFile: gDNAinRNAseqData_1.11.0.tar.gz PackageFileSize: 296.1 KiB